Workbook

Sheet 1）年度指标达成情况
A1: 2026年 诊断原料大客户销售部—目标达成数据看板 —06月
A2: 数据说明：1）客户所属人转移，该客户的业绩全部计入新承接人名下
A3: 一、部门年度目标每月达成统计表（单位：元） | I3: 2543097
A4: 部门 | C4: 月份 | D4: 1月 | E4: 2月 | F4: 3月 | G4: 4月 | H4: 5月 | I4: 6月 | J4: 7月 | K4: 8月 | L4: 9月 | M4: 10月 | N4: 11月 | O4: 12月 | P4: 年度达成情况
A5: 大客户销售部 | C5: 月度目标 | D5: 2166667 | E5: 2274410.5 | F5: 2411198.4 | G5: 2577864.4 | H5: 2785670.1 | I5: 3100226.2 | P5: 26500000
C6: 实际完成 | D6: =D23+D29+D32 -> 981488.4 | E6: =E23+E29+E32 -> 906532.1 | F6: =F23+F29+F32 -> 2741487.6 | G6: =G23+G29+G32 -> 915418 | H6: =H23+H29+H32 -> 583785 | I6: =I23+I29+I32+I26 -> 1737136.2 | J6: =J23+J29+J32+J26 -> 0 | K6: =K23+K29+K32+K26 -> 0 | L6: =L23+L29+L32+L26 -> 0 | M6: =M23+M29+M32+M26 -> 0 | N6: =N23+N29+N32+N26 -> 0 | O6: =O23+O29+O32+O26 -> 0 | P6: =SUM(D6:O6) -> 7865847.3
C7: 达成率 | D7: =D6/D5 -> 0.45299458 | E7: =E6/E5 -> 0.39857893 | F7: =F6/F5 -> 1.1369814 | G7: =G6/G5 -> 0.35510713 | H7: =H6/H5 -> 0.20956717 | I7: =I6/I5 -> 0.56032564 | J7: =J6/J5 -> #DIV/0! | K7: =K6/K5 -> #DIV/0! | ... P7: =P6/P5 -> 0.29682443
A20: 二、个人年度目标达成统计表（单位：元）
A21: 销售人员 | C21: 月份 | D21: 1月 | E21: 2月 | F21: 3月 | G21: 4月 | H21: 5月 | I21: 6月 | J21: 7月 | K21: 8月 | L21: 9月 | M21: 10月 | N21: 11月 | O21: 12月 | P21: 年度达成情况
A22: 赵云浩 | C22: 月度目标 | D22: 1166667 | E22: 1246156.6 | F22: 1327111.7 | G22: 1241892.8 | H22: 1330504.6 | I22: 1479620.5 | P22: 13500000
C23: 实际完成 | D23: 292281.8 | E23: =443074-6468.8 -> 436605.2 | F23: 594079.1 | G23: =533263.6-265.3 -> 532998.3 | H23: =364693-78000 -> 286693 | I23: =530936.8-9000+149210 -> 671146.8 | P23: =SUM(D23:O23) -> 2813804.2
C24: 达成率 | D24: =D23/D22 -> 0.25052719 | E24: =E23/E22 -> 0.35036143 | F24: =F23/F22 -> 0.44764815 | G24: =G23/G22 -> 0.42918222 | H24: =H23/H22 -> 0.2154769 | I24: =I23/I22 -> 0.45359387 | J24: =J23/J22 -> #DIV/0! | K24: =K23/K22 -> #DIV/0! | ... P24: =P23/P22 -> 0.20842994
A25: 张立娅 | C25: 月度目标 | I25: 1333334 | P25: 9000000
C26: 实际完成 | I26: =1056629.4+9360 -> 1065989.4 | P26: =SUM(D26:O26) -> 1065989.4
C27: 达成率 | H27: =H26/H25 -> #DIV/0! | I27: =I26/I25 -> 0.79949165 | J27: =J26/J25 -> #DIV/0! | K27: =K26/K25 -> #DIV/0! | L27: =L26/L25 -> #DIV/0! | M27: =M26/M25 -> #DIV/0! | N27: =N26/N25 -> #DIV/0! | O27: =O26/O25 -> #DIV/0! | P27: =P26/P25 -> 0.11844327
A28: 黄明月（离职） | C28: 月度目标 | D28: 1000000 | E28: 1028253.9 | F28: 1084086.6 | G28: 1417419.6 | H28: 1546794.6 | P28: 13000000
C29: 实际完成 | D29: 689206.6 | E29: 469926.9 | F29: 2146608.5 | G29: 382419.7 | H29: 297092 | P29: =SUM(D29:O29) -> 3985253.7
C30: 达成率 | D30: =D29/D28 -> 0.6892066 | E30: =E29/E28 -> 0.45701444 | F30: =F29/F28 -> 1.9801079 | G30: =G29/G28 -> 0.26979991 | H30: =H29/H28 -> 0.19206945 | I30: =I29/I28 -> #DIV/0! | J30: =J29/J28 -> #DIV/0! | K30: =K29/K28 -> #DIV/0! | ... P30: =P29/P28 -> 0.30655798
A31: 刘新元 | C31: 月度目标 | P31: 0
C32: 实际完成 | F32: 800 | P32: =SUM(D32:O32) -> 800
C33: 达成率 | D33: =D32/D31 -> #DIV/0! | E33: =E32/E31 -> #DIV/0! | F33: =F32/F31 -> #DIV/0! | G33: =G32/G31 -> #DIV/0! | H33: =H32/H31 -> #DIV/0! | I33: =I32/I31 -> #DIV/0! | J33: =J32/J31 -> #DIV/0! | K33: =K32/K31 -> #DIV/0! | ... P33: =P32/P31 -> #DIV/0!
B35: 销售人员 | C35: 1月 | D35: 2月 | E35: 3月 | F35: 4月 | G35: 5月 | H35: 6月 | I35: 7月 | J35: 8月 | K35: 9月 | L35: 10月 | M35: 11月 | N35: 12月
B36: 赵云浩 | C36: =D23 -> 292281.8 | D36: =E23 -> 436605.2 | E36: =F23 -> 594079.1 | F36: =G23 -> 532998.3 | G36: =H23 -> 286693 | H36: =I23 -> 671146.8 | I36: =J23 -> 0 | J36: =K23 -> 0 | ... N36: =O23 -> 0
B37: 张立娅 | C37: =D26 -> 0 | D37: =E26 -> 0 | E37: =F26 -> 0 | F37: =G26 -> 0 | G37: =H26 -> 0 | H37: =I26 -> 1065989.4 | I37: =J26 -> 0 | J37: =K26 -> 0 | ... N37: =O26 -> 0
B38: 黄明月（离职） | C38: =D29 -> 689206.6 | D38: =E29 -> 469926.9 | E38: =F29 -> 2146608.5 | F38: =G29 -> 382419.7 | G38: =H29 -> 297092 | H38: =I29 -> 0 | I38: =J29 -> 0 | J38: =K29 -> 0 | ... N38: =O29 -> 0
B39: 刘新元 | C39: =D32 -> 0 | D39: =E32 -> 0 | E39: =F32 -> 800 | F39: =G32 -> 0 | G39: =H32 -> 0 | H39: =I32 -> 0 | I39: =J32 -> 0 | J39: =K32 -> 0 | ... N39: =O32 -> 0
B40: 1
B41: 销售人员 | C41: 1月 | D41: 2月 | E41: 3月 | F41: 4月 | G41: 5月 | H41: 6月 | I41: 7月 | J41: 8月 | K41: 9月 | L41: 10月 | M41: 11月 | N41: 12月
B42: {=INDEX(B36:B39,$B$40)} -> 赵云浩 | C42: {=_xlfn._xlws.FILTER(C36:N39,B36:B39=B42)} -> 292281.8 | D42: 436605.2 | E42: 594079.1 | F42: 532998.3 | G42: 286693 | H42: 671146.8 | I42: 0 | J42: 0 | K42: 0 | L42: 0 | M42: 0 | N42: 0

Sheet 2）过程指标（月度绩效）达成情况
A1: 诊断原料大客户销售部6月份月度绩效指标完成情况
A2: 部门 | B2: 姓名 | C2: 2026年6月份
C3: 1、客户拜访人次数 | D3: 2、测试单发放与反馈数量 | H3: 3、销售订单
D4: 总发放数 | E4: NGS发放数 | F4: 反馈 | G4: 反馈率 | H4: 总订单数量 | I4: 订单金额
A5: 大客户部 | B5: 张立娅 | C5: 1 | D5: 16 | E5: 2 | F5: 0 | G5: =F5/D5 -> 0 | H5: 34 | I5: 1065989.4
B6: 赵云浩 | C6: 39 | D6: 21 | E6: 1 | F6: 17 | G6: =F6/D6 -> 0.80952381 | H6: 33 | I6: 671146.8
A7: 合计 | C7: =SUM(C5:C6) -> 40 | D7: =SUM(D5:D6) -> 37 | E7: =SUM(E5:E6) -> 3 | F7: =SUM(F5:F6) -> 17 | G7: =F7/D7 -> 0.45945946 | H7: =SUM(H5:H6) -> 67 | I7: =SUM(I5:I6) -> 1737136.2

Sheet 3）过程同比分析
A3: 大客户销售部月度订单、销售额 趋势情况-06月
A4: 一、部门月度测试单发出情况 | P4: 51
A5: 大客户销售部 | B5: 1月 | C5: 2月 | D5: 3月 | E5: 4月 | F5: 5月 | G5: 6月 | H5: 7月 | I5: 8月 | J5: 9月 | K5: 10月 | L5: 11月 | M5: 12月 | N5: 合计 | O5: 同比 | P5: 环比 | X5: 8月
A6: 2026年实绩 | B6: =B10+B12+B16 -> 46 | C6: =C10+C12+C16 -> 24 | D6: =D10+D12+D16 -> 56 | E6: =E10+E12+E16 -> 65 | F6: 37 | G6: =G10+G12+G16 -> 22 | H6: =H10+H12+H16 -> 0 | I6: =I10+I12+I16 -> 0 | J6: =J10+J12+J16 -> 0 | K6: =K10+K12+K16 -> 0 | L6: =L10+L12+L16 -> 0 | M6: =M10+M12+M16 -> 0 | N6: =SUM(B6:M6) -> 250 | O6: =(G6-G7)/G7 -> -0.18518519 | P6: =(G6-F6)/F6 -> -0.40540541
A7: 2025年数据 | B7: 36 | C7: 46 | D7: 41 | E7: 38 | F7: 36 | G7: 27 | H7: 60 | I7: 57 | J7: 55 | K7: 40 | L7: 45 | M7: 51 | N7: =SUM(B7:M7) -> 532
A9: 销售 | B9: 1月 | C9: 2月 | D9: 3月 | E9: 4月 | F9: 5月 | G9: 6月 | H9: 7月 | I9: 8月 | J9: 9月 | K9: 10月 | L9: 11月 | M9: 12月
A10: 赵云浩-2026 | B10: 19 | C10: 14 | D10: 27 | E10: 19 | F10: 20 | G10: 21
A11: 张立娅-2026 | G11: 16
A12: 黄明月（离职）-2026 | B12: 26 | C12: 10 | D12: 29 | E12: 45 | F12: 17
A13: 赵云浩-2025 | B13: 23 | C13: 27 | D13: 27 | E13: 29 | F13: 20 | G13: 17 | H13: 20 | I13: 20 | J13: 23 | K13: 16 | L13: 19 | M13: 27
A14: 张立娅-2025 | B14: 0 | C14: 0 | D14: 0 | E14: 0 | F14: 0 | G14: 0 | H14: 0 | I14: 0 | J14: 0 | K14: 0 | L14: 0 | M14: 0
A15: 黄明月-2025 | F15: 8 | G15: 9 | H15: 37 | I15: 37 | J15: 30 | K15: 24 | L15: 26 | M15: 24
A16: 刘新元-2026 | B16: 1 | E16: 1 | G16: 1
A17: 刘新元
A19: 年份 | B19: 1月 | C19: 2月 | D19: 3月 | E19: 4月 | F19: 5月 | G19: 6月 | H19: 7月 | I19: 8月 | J19: 9月 | K19: 10月 | L19: 11月 | M19: 12月
A20: 2026年 | B20: {=_xlfn._xlws.FILTER(B10:M15,A10:A15=Q28)} -> 19 | C20: 14 | D20: 27 | E20: 19 | F20: 20 | G20: 21 | H20: 0 | I20: 0 | J20: 0 | K20: 0 | L20: 0 | M20: 0
A21: 2025年 | B21: {=_xlfn._xlws.FILTER(B10:M15,A10:A15=Q29)} -> 23 | C21: 27 | D21: 27 | E21: 29 | F21: 20 | G21: 17 | H21: 20 | I21: 20 | J21: 23 | K21: 16 | L21: 19 | M21: 27
Q27: 销售员（可筛选）
Q28: 赵云浩-2026
Q29: 赵云浩-2025
A42: 个人月度测试单趋势同比
A43: 姓名 | B43: 1月 | C43: 2月 | D43: 3月 | E43: 4月 | F43: 5月 | G43: 6月 | H43: 7月 | I43: 8月 | J43: 9月 | K43: 10月 | L43: 11月 | M43: 12月 | N43: 合计 | O43: 同比 | P43: 环比
A44: 赵云浩 | O44: =SUM(C44:N44) -> 0 | P44: =(N44-N45)/N45 -> -1
A45: 赵云浩2025年数据 | B45: 30 | C45: 52 | D45: 66 | E45: 54 | F45: 58 | G45: 52 | H45: 63 | I45: 45 | J45: 28 | K45: 39 | L45: 40 | M45: 51 | N45: =SUM(B45:M45) -> 578
A46: 黄明月 | O46: =SUM(C46:N46) -> 0 | P46: =(N46-N47)/N47 -> #DIV/0!
A47: 黄明月2025年数据 | B47: 45 | C47: 28 | D47: 39 | E47: 40 | F47: 51 | G47: 30 | H47: 52 | I47: 66 | J47: 54 | K47: 58 | L47: 52 | M47: 28
A49: 二、月度采购单、销售额情况 | N49: 2047266.4
A50: 大客户销售部 | B50: 1月 | C50: 2月 | D50: 3月 | E50: 4月 | F50: 5月 | G50: 6月 | H50: 7月 | I50: 8月 | J50: 9月 | K50: 10月 | L50: 11月 | M50: 12月 | N50: 合计 | O50: 同比 | P50: 环比 | Q50: 1月 | R50: 2月 | S50: 3月 | T50: 4月 | U50: 5月 | V50: 6月 | W50: 7月 | X50: 8月 | Y50: 9月 | Z50: 10月 | AA50: 11月 | AB50: 12月
A51: 2026年销售额 | B51: =B59+B65+B68 -> 981488.4 | C51: =C59+C65+C68 -> 906532.1 | D51: =D59+D65+D68 -> 2741487.6 | E51: =E59+E65+E68 -> 915418 | F51: =F59+F65+F68 -> 583785 | G51: =G59+G65+G68+G62 -> 1737136.2 | H51: =H59+H65+H68+H62 -> 0 | I51: =I59+I65+I68+I62 -> 0 | J51: =J59+J65+J68+J62 -> 0 | K51: =K59+K65+K68+K62 -> 0 | L51: =L59+L65+L68+L62 -> 0 | M51: =M59+M65+M68+M62 -> 0 | N51: =SUM(B51:M51) -> 7865847.3 | O51: =(G51-G52)/G52 -> 1.7452651 | P51: =(G51-F51)/F51 -> 1.9756438
A52: 2025销售额（不含战略） | B52: 1944344.1 | C52: 2223326.3 | D52: 755763.5 | E52: 826146.74 | F52: 720293.68 | G52: 632775.4 | H52: 937083 | I52: 932209.78 | J52: 1349330.2 | K52: 1990578.8 | L52: 1950557.9 | M52: 2047266.4 | N52: =SUM(B52:M52) -> 16309676
A53: 2026年订单个数 | B53: =B58+B64+B67 -> 42 | C53: =C58+C64+C67 -> 33 | D53: =D58+D64+D67 -> 51 | E53: =E58+E64+E67 -> 55 | F53: =F58+F64+F67 -> 43 | G53: =G58+G64+G67+G61 -> 67 | H53: =H58+H64+H67+H61 -> 0 | I53: =I58+I64+I67+I61 -> 0 | J53: =J58+J64+J67+J61 -> 0 | K53: =K58+K64+K67+K61 -> 0 | L53: =L58+L64+L67+L61 -> 0 | M53: =M58+M64+M67+M61 -> 0 | N53: =SUM(B53:M53) -> 291 | O53: =(G53-G54)/G54 -> 0.55813953 | P53: =(G53-F53)/F53 -> 0.55813953
A54: 2025订单个数 | B54: 47 | C54: 28 | D54: 39 | E54: 27 | F54: 38 | G54: 43 | H54: 64 | I54: 48 | J54: 55 | K54: 58 | L54: 60 | M54: 76 | N54: =SUM(B54:M54) -> 583 | Q54: 1944344.1 | R54: 2223326.3 | S54: 755763.5 | T54: 826146.75 | U54: 720293.68 | V54: 632775.4 | W54: 937083 | X54: 932209.78 | Y54: 1349330.2 | Z54: 1990578.8 | AA54: 1950557.9 | AB54: 2047266.4
A56: 个人月度销售额同比趋势
A57: 姓名 | B57: 1月 | C57: 2月 | D57: 3月 | E57: 4月 | F57: 5月 | G57: 6月 | H57: 7月 | I57: 8月 | J57: 9月 | K57: 10月 | L57: 11月 | M57: 12月 | N57: 合计 | O57: 同比 | P57: 环比
A58: 赵云浩-2026订单个数 | B58: 23 | C58: 18 | D58: 27 | E58: 27 | F58: 25 | G58: 33 | N58: =SUM(B58:M58) -> 153
A59: 赵云浩-2026 | B59: 292281.8 | C59: 436605.2 | D59: 594079.1 | E59: 532998.3 | F59: 286693 | G59: 671146.8 | N59: =SUM(B59:M59) -> 2813804.2
A60: 赵云浩-2025 | B60: 1612538.1 | C60: 244788.4 | D60: 408134 | E60: 356151.15 | F60: 367657.18 | G60: 329250 | H60: 345788 | I60: 551992.78 | J60: 216416.76 | K60: 500539.9 | L60: 1255380 | M60: 1599045.8 | N60: =SUM(B60:M60) -> 7787682.1
A61: 张立娅-2026订单个数 | G61: 34 | N61: =SUM(B61:M61) -> 34
A62: 张立娅-2026 | G62: 1065989.4 | N62: =SUM(B62:M62) -> 1065989.4
A63: 张立娅-2025 | N63: =SUM(B63:M63) -> 0
A64: 黄明月（离职）-2026订单个数 | B64: 19 | C64: 15 | D64: 23 | E64: 28 | F64: 18 | N64: =SUM(B64:M64) -> 103
A65: 黄明月（离职）-2026 | B65: 689206.6 | C65: 469926.9 | D65: 2146608.5 | E65: 382419.7 | F65: 297092 | N65: =SUM(B65:M65) -> 3985253.7
A66: 黄明月（离职）-2025 | F66: 320464.5 | G66: 295295.4 | H66: 583615 | I66: 376761 | J66: 1130993.4 | K66: 1484566.9 | L66: 690795.91 | M66: 447199.8 | N66: =SUM(B66:M66) -> 5329692
A67: 刘新元-2026订单个数 | D67: 1 | N67: =SUM(B67:M67) -> 1
A68: 刘新元-2026 | D68: 800 | N68: =SUM(B68:M68) -> 800
A69: 刘新元-2025 | B69: 15854 | C69: 0 | D69: 4608 | E69: 5760 | F69: 5472 | G69: 8230 | H69: 7680 | I69: 3456 | J69: 1920 | K69: 5472 | L69: 4382 | M69: 1020.8 | N69: =SUM(B69:M69) -> 63854.8
A72: 姓名 | B72: 1月 | C72: 2月 | D72: 3月 | E72: 4月 | F72: 5月 | G72: 6月 | H72: 7月 | I72: 8月 | J72: 9月 | K72: 10月 | L72: 11月 | M72: 12月
A73: 赵云浩-2026 | B73: =B59 -> 292281.8 | C73: =C59 -> 436605.2 | D73: =D59 -> 594079.1 | E73: =E59 -> 532998.3 | F73: =F59 -> 286693 | G73: =G59 -> 671146.8 | H73: =H59 -> 0 | I73: =I59 -> 0 | ... M73: =M59 -> 0
A74: 张立娅-2026 | B74: =B62 -> 0 | C74: =C62 -> 0 | D74: =D62 -> 0 | E74: =E62 -> 0 | F74: =F62 -> 0 | G74: =G62 -> 1065989.4 | H74: =H62 -> 0 | I74: =I62 -> 0 | ... M74: =M62 -> 0
A75: 黄明月（离职）-2026 | B75: =B65 -> 689206.6 | C75: =C65 -> 469926.9 | D75: =D65 -> 2146608.5 | E75: =E65 -> 382419.7 | F75: =F65 -> 297092 | G75: =G65 -> 0 | H75: =H65 -> 0 | I75: =I65 -> 0 | ... M75: =M65 -> 0
A76: 刘新元-2026 | B76: =B68 -> 0 | C76: =C68 -> 0 | D76: =D68 -> 800 | E76: =E68 -> 0 | F76: =F68 -> 0 | G76: =G68 -> 0 | H76: =H68 -> 0 | I76: =I68 -> 0 | ... M76: =M68 -> 0
A77: 赵云浩-2025 | B77: =B60 -> 1612538.1 | C77: =C60 -> 244788.4 | D77: =D60 -> 408134 | E77: =E60 -> 356151.15 | F77: =F60 -> 367657.18 | G77: =G60 -> 329250 | H77: =H60 -> 345788 | I77: =I60 -> 551992.78 | ... M77: =M60 -> 1599045.8
A78: 张立娅-2025 | B78: =B63 -> 0 | C78: =C63 -> 0 | D78: =D63 -> 0 | E78: =E63 -> 0 | F78: =F63 -> 0 | G78: =G63 -> 0 | H78: =H63 -> 0 | I78: =I63 -> 0 | ... M78: =M63 -> 0
A79: 黄明月（离职）-2025 | B79: =B66 -> 0 | C79: =C66 -> 0 | D79: =D66 -> 0 | E79: =E66 -> 0 | F79: =F66 -> 320464.5 | G79: =G66 -> 295295.4 | H79: =H66 -> 583615 | I79: =I66 -> 376761 | ... M79: =M66 -> 447199.8
A80: 刘新元-2025 | B80: =B69 -> 15854 | C80: =C69 -> 0 | D80: =D69 -> 4608 | E80: =E69 -> 5760 | F80: =F69 -> 5472 | G80: =G69 -> 8230 | H80: =H69 -> 7680 | I80: =I69 -> 3456 | ... M80: =M69 -> 1020.8
A82: 姓名 | B82: 1月 | C82: 2月 | D82: 3月 | E82: 4月 | F82: 5月 | G82: 6月 | H82: 7月 | I82: 8月 | J82: 9月 | K82: 10月 | L82: 11月 | M82: 12月
A83: =Q90 -> 赵云浩-2026 | B83: {=_xlfn._xlws.FILTER(B73:M80,A73:A80=A83)} -> 292281.8 | C83: 436605.2 | D83: 594079.1 | E83: 532998.3 | F83: 286693 | G83: 671146.8 | H83: 0 | I83: 0 | J83: 0 | K83: 0 | L83: 0 | M83: 0
A84: =Q91 -> 赵云浩-2025 | B84: {=_xlfn._xlws.FILTER(B73:M80,A73:A80=A84)} -> 1612538.1 | C84: 244788.4 | D84: 408134 | E84: 356151.15 | F84: 367657.18 | G84: 329250 | H84: 345788 | I84: 551992.78 | J84: 216416.76 | K84: 500539.9 | L84: 1255380 | M84: 1599045.8
Q89: 销售员（可筛选）
Q90: 赵云浩-2026
Q91: 赵云浩-2025
A93: 区域销售额 | C93: 1月 | D93: 2月 | E93: 3月 | F93: 4月 | G93: 5月 | H93: 6月 | I93: 7月 | J93: 8月 | K93: 9月 | L93: 10月 | M93: 11月 | N93: 12月 | O93: 合计 | P93: 同比 | Q93: 环比
A94: 大客户部销售部 | C94: 1944344.1 | D94: 2223326.3 | E94: 755763.5 | F94: 826146.75 | G94: 720293.68 | H94: 632775.4 | I94: 937083 | O94: =SUM(C94:N94) -> 8039732.7 | P94: =(I94-I95)/I95 -> 0.38836554 | Q94: =(I94-H94)/H94 -> 0.48090934
A95: 大客户部销售部（2024） | C95: 905995.84 | D95: 677290.6 | E95: 1115696.6 | F95: 2320365.7 | G95: 1007470.8 | H95: 3550576 | I95: 674954.09 | J95: 949618.9 | K95: 660870.5 | L95: 577531.31 | M95: 1946328.9 | N95: 1360828.1 | O95: =SUM(C95:N95) -> 15747527
B96: 同区域2024年数据 | I96: 270794.19 | J96: 433158.11 | K96: 390046.5 | L96: 352880 | M96: 689258 | N96: 334732 | O96: =SUM(C96:N96) -> 2470868.8
A97: 合计： | C97: =#REF!+#REF! -> #REF! | D97: =#REF!+#REF! -> #REF! | E97: =#REF!+#REF! -> #REF! | F97: =#REF!+#REF! -> #REF! | G97: 720293.68 | H97: 632775.4 | I97: 937083
B98: 3
A99: 部门 | B99: 姓名 | C99: 1月 | D99: 2月 | E99: 3月 | F99: 4月 | G99: 5月 | H99: 6月 | I99: 7月 | J99: 8月 | K99: 9月 | L99: 10月 | M99: 11月 | N99: 12月
B100: {=INDEX(#REF!,$B$98)} -> #REF! | C100: {=_xlfn._xlws.FILTER(#REF!,#REF!=B100)} -> #REF!

Sheet 大客户近三年销售情况
A1: 一、诊断原料大客户销售部2025年销售额排名前30客户 | H1: 二、2026年1-6月销售额排名前30客户
A2: 序号 | B2: 集团 | C2: 客户名称 | D2: 销售员 | E2: 销售额（元） | H2: 序号 | I2: 集团 | J2: 客户名称 | K2: 销售员 | L2: 销售额（元）
A3: 1 | B3: 圣湘集团 | C3: 圣湘生物科技股份有限公司 | D3: 赵云浩 | E3: 4591725.4 | H3: 1 | I3: 丽珠集团 | J3: 珠海丽珠试剂股份有限公司 | K3: 张立娅 | L3: 2363752.1
A4: 2 | B4: 丽珠集团 | C4: 珠海丽珠试剂股份有限公司 | D4: 黄明月 | E4: 2408119.3 | H4: 2 | I4: 天隆集团 | J4: 西安华伟科技有限公司 | K4: 张立娅 | L4: 558000
A5: 3 | B5: 天隆集团 | C5: 西安华伟科技有限公司 | D5: 黄明月 | E5: 1642347 | H5: 3 | I5: 万孚集团 | J5: 广州万孚生物技术股份有限公司 | K5: 赵云浩 | L5: 547540
A6: 4 | B6: 佰奥莱博集团 | C6: 西安佰奥莱博生物科技有限公司 | D6: 黄明月 | E6: 1096427 | H6: 4 | I6: 圣湘集团 | J6: 圣湘（上海）基因科技有限公司 | K6: 赵云浩 | L6: 502333.8
A7: 5 | B7: 万孚集团 | C7: 广州万孚生物技术股份有限公司 | D7: 赵云浩 | E7: 1025784 | H7: 5 | J7: 苏州华益美生物科技有限公司 | K7: 张立娅 | L7: 485000
A8: 6 | B8: 天隆集团 | C8: 苏州天隆生物科技有限公司 | D8: 黄明月 | E8: 951300 | H8: 6 | J8: 北京明日达科技发展有限责任公司 | K8: 赵云浩 | L8: 455300
A9: 7 | C9: 北京明日达科技发展有限责任公司 | D9: 赵云浩 | E9: 872300 | H9: 7 | J9: 郑州纳克智造生物科技有限公司 | K9: 赵云浩 | L9: 354444.6
A10: 8 | C10: 苏州华益美生物科技有限公司 | D10: 黄明月 | E10: 834260 | H10: 8 | I10: 复星集团 | J10: 复星诊断科技（上海）有限公司 | K10: 张立娅 | L10: 352518
A11: 9 | B11: 海尔施集团 | C11: 宁波海尔施基因科技股份有限公司 | D11: 黄明月 | E11: 654495.32 | H11: 9 | I11: 佰奥莱博集团 | J11: 西安佰奥莱博生物科技有限公司 | K11: 张立娅 | L11: 347640
A12: 10 | B12: 明德集团 | C12: 武汉明德生物科技股份有限公司 | D12: 赵云浩 | E12: 518952.8（含战略合作） | H12: 10 | I12: 圣湘集团 | J12: 圣湘生物科技股份有限公司 | K12: 赵云浩 | L12: 300002
A13: 11 | B13: 东方基因集团 | C13: 杭州丹威生物科技有限公司 | D13: 黄明月 | E13: 390773 | H13: 11 | J13: 杭州迪安生物技术有限公司 | K13: 张立娅 | L13: 291055.2
A14: 12 | B14: 圣湘集团 | C14: 湖南康得生物科技有限公司 | D14: 赵云浩 | E14: 370980 | H14: 12 | I14: 东方基因集团 | J14: 杭州丹威生物科技有限公司 | K14: 张立娅 | L14: 276534.6
A15: 13 | B15: 复星集团 | C15: 复星诊断科技（上海）有限公司 | D15: 黄明月 | E15: 249255.91 | H15: 13 | I15: 天隆集团 | J15: 苏州天隆生物科技有限公司 | K15: 张立娅 | L15: 222958
A16: 14 | B16: 安图集团 | C16: 郑州安图生物工程股份有限公司 | D16: 赵云浩 | E16: 216404 | H16: 14 | J16: 洛阳普泰生物技术有限公司 | K16: 赵云浩 | L16: 156000
A17: 15 | B17: 圣湘集团 | C17: 圣湘（上海）基因科技有限公司 | D17: 赵云浩 | E17: 211766 | H17: 15 | I17: 安图集团 | J17: 郑州安图生物工程股份有限公司 | K17: 赵云浩 | L17: 117600
A18: 16 | C18: 杭州迪安生物技术有限公司 | D18: 黄明月 | E18: 154184.8 | H18: 16 | I18: 圣湘集团 | J18: 湖南康得生物科技有限公司 | K18: 赵云浩 | L18: 78620
A19: 17 | B19: 圣湘集团 | C19: 长沙圣维鲲腾医疗器械有限公司 | D19: 赵云浩 | E19: 137370 | H19: 17 | I19: 欣中生物 | J19: 瀛科（武汉）生物科技有限责任公司 | K19: 赵云浩 | L19: 75600
A20: 18 | B20: 圣湘集团 | C20: 湖南圣维鲲腾生物科技有限公司 | D20: 赵云浩 | E20: 82525 | H20: 18 | I20: 明德集团 | J20: 武汉明德生物科技股份有限公司 | K20: 赵云浩 | L20: 75275
A21: 19 | B21: 中道集团 | C21: 河南鼎月生物科技有限公司 | D21: 刘新元 | E21: 61332 | H21: 19 | J21: 深圳市新产业生物医学工程股份有限公司 | K21: 张立娅 | L21: 68420
A22: 20 | B22: 迈克生物集团 | C22: 迈克生物股份有限公司 | D22: 赵云浩 | E22: 53900 | H22: 20 | I22: 海尔施集团 | J22: 宁波海尔施基因科技股份有限公司 | K22: 张立娅 | L22: 41056.2
A23: 21 | C23: 中国人民解放军陆军军医大学第一附属医院 | D23: 黄明月 | E23: 50000 | H23: 21 | I23: 中道集团 | J23: 郑州中道生物技术有限公司 | K23: 赵云浩 | L23: 35673.6
A24: 22 | B24: 欣中生物 | C24: 瀛科（武汉）生物科技有限责任公司 | D24: 赵云浩 | E24: 43800 | H24: 22 | I24: 许昌学院 | J24: 许昌学院 | K24: 赵云浩 | L24: 32996
A25: 23 | C25: 深圳市新产业生物医学工程股份有限公司 | D25: 黄明月 | E25: 22820 | H25: 23 | I25: 中道集团 | J25: 河南干士生物科技有限公司 | K25: 赵云浩 | L25: 29699.2
A26: 24 | B26: 凯普集团 | C26: 潮州凯普生物化学有限公司 | D26: 赵云浩 | E26: 17990.4 | H26: 24 | I26: 安图集团 | J26: 郑州玛特瑞斯生物科技有限公司 | K26: 赵云浩 | L26: 24540
A27: 25 | B27: 迈克生物集团 | C27: 四川安可瑞新材料技术有限公司 | D27: 赵云浩 | E27: 17700 | H27: 25 | J27: 河南省华之源生物技术有限公司 | K27: 赵云浩 | L27: 15100
A28: 26 | B28: 海尔施集团 | C28: 宁波海壹基因科技有限公司 | D28: 黄明月 | E28: 15246 | H28: 26 | I28: 海尔施集团 | J28: 宁波海壹基因科技有限公司 | K28: 张立娅 | L28: 12474
A29: 27 | B29: 东方基因集团 | C29: 浙江东方基因生物制品股份有限公司 | D29: 黄明月 | E29: 8544 | H29: 27 | I29: 许昌学院 | J29: 东北农业大学 | K29: 赵云浩 | L29: 9980
A30: 28 | B30: 佰奥莱博集团 | C30: 上海基灵生物科技有限公司 | D30: 黄明月 | E30: 4585 | H30: 28 | J30: 深圳市雅为世纪科技有限公司 | K30: 张立娅 | L30: 9900
A31: 29 | B31: 天隆集团 | C31: 西安安瑞科生物科技有限公司 | D31: 黄明月 | E31: 3500 | H31: 29 | I31: 丽珠集团 | J31: 珠海丽禾医疗诊断产品有限公司 | K31: 张立娅 | L31: 8893.5
A32: 30 | B32: 佰奥莱博集团 | C32: 基灵（西安）生物科技有限公司 | D32: 黄明月 | E32: 2666.4 | H32: 30 | J32: 西安安瑞科生物科技有限公司 | K32: 张立娅 | L32: 4900
A33: 合计 | E33: 16711053 | H33: 合计 | L33: =SUM(L3:L32) -> 7853805.8
H34: 颜色表示为在2025年采购的基础上2026年有持续采购，一共20家，仅销售额排名前30的客户池中。
A36: 三、2025年销售额排名前30客户近三年销售情况
A37: 集团 | B37: 客户名称 | C37: 销售员 | D37: 年份 | E37: 1月 | F37: 2月 | G37: 3月 | H37: 4月 | I37: 5月 | J37: 6月 | K37: 7月 | L37: 8月 | M37: 9月 | N37: 10月 | O37: 11月 | P37: 12月 | Q37: 合计 | R37: 同比 | S37: 环比
B38: 北京明日达科技发展有限责任公司 | C38: 赵云浩 | D38: 2026年 | E38: 118500 | F38: 78000 | G38: =79600-78000 -> 1600 | H38: 53200 | I38: 52000 | J38: 152000 | Q38: =SUM(E38:P38) -> 455300 | R38: =(J38-J39)/J39 -> 0.6 | S38: =(J38-I38)/I38 -> 1.9230769
D39: 2025年 | E39: 0 | F39: 95000 | G39: 135000 | H39: 255000 | I39: 57000 | J39: 95000 | K39: 19500 | L39: 58000 | M39: 24000 | O39: 133800 | Q39: =SUM(E39:P39) -> 872300
D40: 2024年 | E40: 140000 | G40: 128800 | H40: 400 | I40: 95000 | J40: 81520 | K40: 95000 | L40: 42000 | N40: 56000 | O40: 56000 | P40: 227500 | Q40: =SUM(E40:P40) -> 922220
A41: 凯普集团 | B41: 潮州凯普生物化学有限公司 | D41: 2026年 | Q41: =SUM(E41:P41) -> 0
D42: 2025年 | E42: 0 | K42: 4416 | L42: 10300.8 | O42: 480 | P42: 2793.6 | Q42: =SUM(E42:P42) -> 17990.4
D43: 2024年 | E43: 0 | H43: 14134.4 | I43: 4204.8 | M43: 18480 | Q43: =SUM(E43:P43) -> 36819.2
A44: 复星集团 | B44: 复星诊断科技（上海）有限公司 | C44: 黄明月 | D44: 2026年 | F44: 176384 | G44: 34650 | I44: 120684 | J44: 20800 | Q44: =SUM(E44:P44) -> 352518 | R44: =(J44-J45)/J45 -> 15 | S44: =(J44-I44)/I44 -> -0.82764907
D45: 2025年 | E45: 0 | F45: 11250 | G45: 14500 | H45: 12670 | I45: 15600 | J45: 1300 | K45: 9900 | M45: 7260 | N45: 19500 | O45: 144975.91 | P45: 12300 | Q45: =SUM(E45:P45) -> 249255.91
D46: 2024年 | E46: 15082 | F46: 9600 | G46: 18500 | H46: 16000 | I46: 8000 | J46: 8000 | K46: 19500 | L46: 12800 | N46: 12800 | O46: 14450 | P46: 13600 | Q46: =SUM(E46:P46) -> 148332
A47: 万孚集团 | B47: 广州万孚生物技术股份有限公司 | C47: 赵云浩 | D47: 2026年 | E47: 70710 | F47: 105485 | G47: 89820 | H47: 128580 | I47: 87725 | J47: 65220 | Q47: =SUM(E47:P47) -> 547540 | R47: =(J47-J48)/J48 -> -0.36376939 | S47: =(J47-I47)/I47 -> -0.25654032
D48: 2025年 | E48: 65280 | F48: 39620 | G48: 91320 | H48: 67110 | I48: 84900 | J48: 102510 | K48: 166050 | L48: 51940 | M48: 83940 | N48: 85570 | O48: 125054 | P48: 62490 | Q48: =SUM(E48:P48) -> 1025784
D49: 2024年 | E49: 102600 | F49: 40210 | G49: 32190 | H49: 36280 | I49: 38240 | J49: 2100 | K49: 104715 | L49: 34960 | M49: 75860 | N49: 29810 | O49: 110740 | P49: 75160 | Q49: =SUM(E49:P49) -> 682865
A50: 东方基因集团 | B50: 杭州丹威生物科技有限公司 | C50: 黄明月 | D50: 2026年 | E50: 113061.6 | F50: 26786.4 | G50: 10073.6 | H50: 27160 | I50: 12372 | J50: 87081 | Q50: =SUM(E50:P50) -> 276534.6 | R50: =(J50-J51)/J51 -> 0.79756749 | S50: =(J50-I50)/I50 -> 6.0385548
D51: 2025年 | E51: 10449 | F51: 7310 | G51: 24285 | H51: 4615 | I51: 14328 | J51: 48443.8 | K51: 21900 | L51: 61997 | M51: 28510 | N51: 29114.4 | O51: 32858 | P51: 106962.8 | Q51: =SUM(E51:P51) -> 390773
D52: 2024年 | E52: 12595 | F52: 5655 | G52: 15300 | H52: 12450 | I52: 3060 | J52: 4330 | K52: 27280 | L52: 22389 | M52: 27915 | N52: 8300 | O52: 61595 | P52: 9020 | Q52: =SUM(E52:P52) -> 209889
B53: 杭州迪安生物技术有限公司 | D53: 2026年 | E53: 36320 | F53: 3000 | G53: 174000 | H53: 5591.2 | I53: 45000 | J53: 27144 | Q53: =SUM(E53:P53) -> 291055.2 | R53: =(J53-J54)/J54 -> #DIV/0! | S53: =(J53-I53)/I53 -> -0.3968
D54: 2025年 | E54: 0 | K54: 10400 | L54: 21784.8 | M54: 29000 | N54: 93000 | Q54: =SUM(E54:P54) -> 154184.8
D55: 2024年 | E55: 0 | Q55: =SUM(E55:P55) -> 0
A56: 中道集团 | B56: 河南鼎月生物科技有限公司 | C56: 刘新元 | D56: 2026年 | Q56: =SUM(E56:P56) -> 0
D57: 2025年 | E57: 15854 | G57: 4608 | H57: 5760 | I57: 5472 | J57: 8230 | K57: 7680 | L57: 3456 | M57: 768 | N57: 5472 | O57: 4032 | Q57: =SUM(E57:P57) -> 61332
D58: 2024年 | E58: 0 | H58: 5376 | J58: 4608 | K58: 288 | L58: 2649.6 | M58: 2304 | N58: 3456 | O58: 3456 | Q58: =SUM(E58:P58) -> 22137.6
A59: 圣湘集团 | B59: 湖南康得生物科技有限公司 | C59: 赵云浩 | D59: 2026年 | E59: 11480 | F59: 20360 | G59: 760 | H59: 8060 | I59: 21060 | J59: 16900 | Q59: =SUM(E59:P59) -> 78620 | R59: =(J59-J60)/J60 -> 0.77521008 | S59: =(J59-I59)/I59 -> -0.19753086
D60: 2025年 | E60: 10240 | F60: 67060 | G60: 139190 | H60: 3080 | I60: 5120 | J60: 9520 | K60: 9920 | L60: 39164 | M60: 28864 | N60: 26880 | O60: 20602 | P60: 11340 | Q60: =SUM(E60:P60) -> 370980
D61: 2024年 | E61: 0 | H61: 43665 | I61: 2070 | K61: 2100 | L61: 131480 | M61: 17580 | N61: 160 | O61: 10720 | P61: 27320 | Q61: =SUM(E61:P61) -> 235095
B62: 湖南圣维鲲腾生物科技有限公司 | D62: 2026年 | Q62: =SUM(E62:P62) -> 0
D63: 2025年 | E63: 66525 | L63: 8000 | M63: 8000 | Q63: =SUM(E63:P63) -> 82525
D64: 2024年 | E64: 0 | G64: 10187.5 | J64: 8430 | M64: 8430 | Q64: =SUM(E64:P64) -> 27047.5
A65: 佰奥莱博集团 | B65: 基灵（西安）生物科技有限公司 | C65: 黄明月 | D65: 2026年 | F65: 1666.5 | H65: 2975 | Q65: =SUM(E65:P65) -> 4641.5
D66: 2025年 | E66: 0 | K66: 2666.4 | Q66: =SUM(E66:P66) -> 2666.4
D67: 2024年 | E67: 0 | Q67: =SUM(E67:P67) -> 0
A68: 迈克生物集团 | B68: 迈克生物股份有限公司 | C68: 赵云浩 | D68: 2026年 | Q68: =SUM(E68:P68) -> 0
D69: 2025年 | E69: 0 | F69: 4000 | G69: 14700 | I69: 11400 | K69: 12400 | P69: 11400 | Q69: =SUM(E69:P69) -> 53900
D70: 2024年 | E70: 0 | F70: 4000 | G70: 8000 | H70: 16000 | I70: 10000 | J70: 12000 | K70: 12000 | L70: 17000 | M70: 12000 | N70: 12000 | O70: 12000 | P70: 12000 | Q70: =SUM(E70:P70) -> 127000
A71: 海尔施集团 | B71: 宁波海尔施基因科技股份有限公司 | C71: 黄明月 | D71: 2026年 | E71: 945 | F71: 1890 | G71: 28575.2 | H71: 5166 | I71: 3724 | J71: 756 | Q71: =SUM(E71:P71) -> 41056.2 | R71: =(J71-J72)/J72 -> -0.5128866 | S71: =(J71-I71)/I71 -> -0.79699248
D72: 2025年 | E72: 9480 | F72: 26088.48 | G72: 810 | H72: 23225.6 | J72: 1552 | K72: 38745.6 | L72: 1684 | M72: 91656.64 | N72: 148284 | O72: 151882 | P72: 161087 | Q72: =SUM(E72:P72) -> 654495.32
D73: 2024年 | E73: 0 | G73: 1656 | H73: 1000 | I73: 5496 | J73: 47500 | K73: 26665 | L73: 67500 | M73: 127600 | O73: 144000 | P73: 8412 | Q73: =SUM(E73:P73) -> 429829
B74: 宁波海壹基因科技有限公司 | D74: 2026年 | I74: 12474 | Q74: =SUM(E74:P74) -> 12474
D75: 2025年 | E75: 0 | J75: 15246 | Q75: =SUM(E75:P75) -> 15246
D76: 2024年 | E76: 5824 | G76: 43747.2 | Q76: =SUM(E76:P76) -> 49571.2
A77: 佰奥莱博集团 | B77: 上海基灵生物科技有限公司 | D77: 2026年 | J77: 3500 | Q77: =SUM(E77:P77) -> 3500 | R77: =(J77-J78)/J78 -> #DIV/0! | S77: =(J77-I77)/I77 -> #DIV/0!
D78: 2025年 | E78: 0 | P78: 4585 | Q78: =SUM(E78:P78) -> 4585
D79: 2024年 | E79: 0 | Q79: =SUM(E79:P79) -> 0
B80: 深圳市新产业生物医学工程股份有限公司 | D80: 2026年 | E80: 30040 | H80: 23300 | I80: 15080 | Q80: =SUM(E80:P80) -> 68420
D81: 2025年 | E81: 0 | M81: 3580 | N81: 2600 | P81: 16640 | Q81: =SUM(E81:P81) -> 22820
D82: 2024年 | E82: 0 | Q82: =SUM(E82:P82) -> 0
A83: 圣湘集团 | B83: 圣湘（上海）基因科技有限公司 | C83: 赵云浩 | D83: 2026年 | F83: 39933.8 | G83: 286400 | H83: 96000 | I83: 32000 | J83: 48000 | Q83: =SUM(E83:P83) -> 502333.8 | R83: =(J83-J84)/J84 -> #DIV/0! | S83: =(J83-I83)/I83 -> 0.5
D84: 2025年 | E84: 0 | H84: 24000 | I84: 48000 | K84: 35166 | M84: 24000 | N84: 16000 | O84: 28600 | P84: 36000 | Q84: =SUM(E84:P84) -> 211766
D85: 2024年 | E85: 0 | Q85: =SUM(E85:P85) -> 0
B86: 圣湘生物科技股份有限公司 | D86: 2026年 | E86: 6400 | G86: 68494 | H86: 52000 | I86: 106536 | J86: 66572 | Q86: =SUM(E86:P86) -> 300002 | R86: =(J86-J87)/J87 -> -0.37690004 | S86: =(J86-I86)/I86 -> -0.37512202
D87: 2025年 | E87: 1425428.8 | F87: 19000 | G87: 5980 | H87: 25860 | I87: 48600 | J87: 106840 | K87: 53436 | L87: 384587.98 | M87: 28337.76 | N87: 276359.9 | O87: 920324 | P87: 1296971 | Q87: =SUM(E87:P87) -> 4591725.4
D88: 2024年 | E88: 0 | G88: 534400 | H88: 800730 | I88: 584595 | J88: 2882498 | K88: 128112.5 | L88: 215531.94 | M88: 47998.95 | N88: 65599.86 | O88: 915570 | P88: 487392.85 | Q88: =SUM(E88:P88) -> 6662429.1
A89: 迈克生物集团 | B89: 四川安可瑞新材料技术有限公司 | D89: 2026年 | Q89: =SUM(E89:P89) -> 0
D90: 2025年 | E90: 600 | F90: 3600 | H90: 6600 | J90: 6900 | Q90: =SUM(E90:P90) -> 17700
D91: 2024年 | E91: 0 | Q91: =SUM(E91:P91) -> 0
B92: 苏州华益美生物科技有限公司 | C92: 黄明月 | D92: 2026年 | F92: 214500 | J92: 270500 | Q92: =SUM(E92:P92) -> 485000 | R92: =(J92-J93)/J93 -> 3.5462185 | S92: =(J92-I92)/I92 -> #DIV/0!
D93: 2025年 | E93: 11080 | F93: 170380 | I93: 119000 | J93: 59500 | M93: 189800 | O93: 284500 | Q93: =SUM(E93:P93) -> 834260
D94: 2024年 | E94: 1600 | F94: 178000 | H94: 253600 | J94: 1750 | K94: 2755 | L94: 52000 | M94: 1580 | N94: 178000 | O94: 90000 | P94: 126000 | Q94: =SUM(E94:P94) -> 885285
A95: 天隆集团 | B95: 苏州天隆生物科技有限公司 | D95: 2026年 | F95: 11500 | G95: 3000 | H95: 84450 | I95: 9008 | J95: 115000 | Q95: =SUM(E95:P95) -> 222958 | R95: =(J95-J96)/J96 -> 6.615894 | S95: =(J95-I95)/I95 -> 11.76643
D96: 2025年 | E96: 79000 | F96: 24800 | G96: 12000 | I96: 2800 | J96: 15100 | K96: 271400 | L96: 273600 | M96: 3400 | N96: 182200 | O96: 55000 | P96: 32000 | Q96: =SUM(E96:P96) -> 951300
D97: 2024年 | E97: 62500 | F97: 23260 | G97: 23660 | H97: 15000 | I97: 46500 | J97: 68800 | K97: 79975 | L97: 70900 | M97: 16900 | N97: 1800 | O97: 26975 | P97: 92500 | Q97: =SUM(E97:P97) -> 528770
A98: 明德集团 | B98: 武汉明德生物科技股份有限公司 | C98: 赵云浩 | D98: 2026年 | E98: 14147 | F98: 1520 | H98: 18254 | I98: 4232 | J98: 37122 | Q98: =SUM(E98:P98) -> 75275 | R98: =(J98-J99)/J99 -> 6.9320513 | S98: =(J98-I98)/I98 -> 7.7717391
D99: 2025年 | E99: 62236 | G99: 22844 | H99: 20558 | I99: 1400 | J99: 4680 | K99: 36028 | L99: 49744 | M99: 16598 | N99: 11742 | O99: 129848.2 | P99: 163274.6 | Q99: =SUM(E99:P99) -> 518952.8
D100: 2024年 | E100: 135195.24 | F100: 84000 | G100: 34095 | H100: 11300 | I100: 57388.6 | J100: 34376 | K100: 17027.2 | L100: 15194.4 | M100: 6498 | N100: 35000 | O100: 28659.6 | P100: 31734.2 | Q100: =SUM(E100:P100) -> 490468.24
A101: 天隆集团 | B101: 西安安瑞科生物科技有限公司 | C101: 黄明月 | D101: 2026年 | E101: 700 | F101: 700 | G101: 700 | H101: 1400 | I101: 1400 | Q101: =SUM(E101:P101) -> 4900
...

Sheet 大客户部近三年销售数据
B1: 诊断原料大客户销售部2024-2026年销售额同比数据
B2: 说明：以下2026年6月份数据截止为6月30日 | P2: 单位：元
B3: 部门 | C3: 年份 月份 | D3: 1月份 | E3: 2月份 | F3: 3月份 | G3: 4月份 | H3: 5月份 | I3: 6月份 | J3: 7月份 | K3: 8月份 | L3: 9月份 | M3: 10月份 | N3: 11月份 | O3: 12月份 | P3: 合计
B4: 诊断原料大客户销售部 | C4: 2024年 | D4: 905995.84 | E4: 677290.6 | F4: 1115696.6 | G4: 2310765.7 | H4: 1007470.8 | I4: 3550576 | J4: 674954.09 | K4: 949618.9 | L4: 660870.5 | M4: 577531.31 | N4: 1946328.9 | O4: 1360828.1 | P4: =SUM(D4:O4) -> 15737927
C5: 2025年 | D5: 1944344.1 | E5: 2223326.3 | F5: 755763.5 | G5: 826146.74 | H5: 720293.68 | I5: 632775.4 | J5: 937083 | K5: 932209.78 | L5: 1320330.2 | M5: 1990578.8 | N5: 1950557.9 | O5: 2047266.4 | P5: =SUM(D5:O5) -> 16280676
C6: 2026年 | D6: 981488.4 | E6: ='1）年度指标达成情况'!E6 -> 906532.1 | F6: ='1）年度指标达成情况'!F6 -> 2741487.6 | G6: ='1）年度指标达成情况'!G6 -> 915418 | H6: ='1）年度指标达成情况'!H6 -> 583785 | I6: ='1）年度指标达成情况'!I6 -> 1737136.2 | J6: ='1）年度指标达成情况'!J6 -> 0 | K6: ='1）年度指标达成情况'!K6 -> 0 | L6: ='1）年度指标达成情况'!L6 -> 0 | ... O6: ='1）年度指标达成情况'!O6 -> 0 | P6: =SUM(D6:O6) -> 7865847.3
C7: 25-26销售额月同比 | D7: =(D6-D5)/D5 -> -0.49520848 | E7: =(E6-E5)/E5 -> -0.59226313 | F7: =(F6-F5)/F5 -> 2.6274411 | G7: =(G6-G5)/G5 -> 0.10805738 | H7: =(H6-H5)/H5 -> -0.18951809 | I7: =(I6-I5)/I5 -> 1.7452651 | J7: =(J6-J5)/J5 -> -1 | K7: =(K6-K5)/K5 -> -1 | ... O7: =(O6-O5)/O5 -> -1 | P7: =(P5-P4)/P4 -> 0.034486661
B9: 2024-2026年各产品类型销售额同比数据
P10: 单位：元
B11: 产品类别 | C11: 年份 月份 | D11: 1月份 | E11: 2月份 | F11: 3月份 | G11: 4月份 | H11: 5月份 | I11: 6月份 | J11: 7月份 | K11: 8月份 | L11: 9月份 | M11: 10月份 | N11: 11月份 | O11: 12月份 | P11: 合计
B12: 核酸扩增原料相关产品 | C12: 2024年 | D12: 905995.84 | E12: 677290.6 | F12: 1115696.6 | G12: 2310765.7 | H12: 1007470.8 | I12: 3550576 | J12: 674954.09 | K12: 949618.9 | L12: 660870.5 | M12: 577531.31 | N12: 1945928.9 | O12: 1360028.1 | P12: =SUM(D12:O12) -> 15736727
C13: 2025年 | D13: 1942744.1 | E13: 2223326.3 | F13: 755619.5 | G13: 826146.74 | H13: 720293.68 | I13: 632775.4 | J13: 937083 | K13: 932209.78 | L13: 1320330.2 | M13: 1990578.8 | N13: 1950557.9 | O13: 2047266.4 | P13: =SUM(D13:O13) -> 16278932
C14: 2026年 | D14: =D6-D18 -> 981488.4 | E14: =E6-E18 -> 906532.1 | F14: =F6-F18 -> 2741487.6 | G14: =G6-G18 -> 911098 | H14: =H6-H18 -> 583785 | I14: =I6-I18 -> 1737136.2 | J14: =J6-J18 -> 0 | K14: =K6-K18 -> 0 | ... O14: =O6-O18 -> 0 | P14: =SUM(D14:O14) -> 7861527.3
C15: 25-26销售额月同比 | D15: =(D14-D13)/D13 -> -0.49479275 | E15: =(E14-E13)/E13 -> -0.59226313 | F15: =(F14-F13)/F13 -> 2.6281324 | G15: =(G14-G13)/G13 -> 0.10282829 | H15: =(H14-H13)/H13 -> -0.18951809 | I15: =(I14-I13)/I13 -> 1.7452651 | J15: =(J14-J13)/J13 -> -1 | K15: =(K14-K13)/K13 -> -1 | ... O15: =(O14-O13)/O13 -> -1 | P15: =(P13-P12)/P12 -> 0.034454722
B16: NGS产品 | C16: 2024年 | N16: 400 | O16: 800 | P16: =SUM(D16:O16) -> 1200
C17: 2025年 | D17: 1600 | F17: 144 | P17: =SUM(D17:O17) -> 1744
C18: 2026年 | D18: 0 | E18: 0 | F18: 0 | G18: 4320 | H18: 0 | I18: 0 | P18: =SUM(D18:O18) -> 4320
C19: 25-26销售额月同比 | D19: =(D18-D17)/D17 -> -1 | E19: =(E18-E17)/E17 -> #DIV/0! | F19: =(F18-F17)/F17 -> -1 | G19: =(G18-G17)/G17 -> #DIV/0! | H19: =(H18-H17)/H17 -> #DIV/0! | I19: =(I18-I17)/I17 -> #DIV/0! | J19: =(J18-J17)/J17 -> #DIV/0! | K19: =(K18-K17)/K17 -> #DIV/0! | ... O19: =(O18-O17)/O17 -> #DIV/0! | P19: =(P17-P16)/P16 -> 0.45333333
B20: 说明：以上数据已剔除售后单，退货以及关联公司之间的数据
